BEGIN:VCALENDAR
VERSION:2.0
PRODID:-//WV Waldshut e.V. - ECPv5.0.0.2//NONSGML v1.0//EN
CALSCALE:GREGORIAN
METHOD:PUBLISH
X-WR-CALNAME:WV Waldshut e.V.
X-ORIGINAL-URL:https://wv-waldshut.de
X-WR-CALDESC:Veranstaltungen im WV Waldshut e.V.
BEGIN:VTIMEZONE
TZID:Europe/Helsinki
BEGIN:DAYLIGHT
TZOFFSETFROM:+0200
TZOFFSETTO:+0300
TZNAME:EEST
DTSTART:20210328T010000
END:DAYLIGHT
BEGIN:STANDARD
TZOFFSETFROM:+0300
TZOFFSETTO:+0200
TZNAME:EET
DTSTART:20211031T010000
END:STANDARD
END:VTIMEZONE
BEGIN:VEVENT
DTSTART;TZID=Europe/Helsinki:20211217T190000
DTEND;TZID=Europe/Helsinki:20211217T210000
DTSTAMP:20260422T084036
CREATED:20211212T195028Z
LAST-MODIFIED:20211212T195028Z
UID:4220-1639767600-1639774800@wv-waldshut.de
SUMMARY:Jugend-Vollversammlung
DESCRIPTION:Freitag\, 17.12. um 19:00 \noder per Online-Schaltung (Link bei Angelika erfragen) \n
URL:https://wv-waldshut.de/event/jugend-vollversammlung/
END:VEVENT
END:VCALENDAR